BEGIN:VCALENDAR
VERSION:2.0
PRODID:-//Benjamin Appl - ECPv6.0.9//NONSGML v1.0//EN
CALSCALE:GREGORIAN
METHOD:PUBLISH
X-WR-CALNAME:Benjamin Appl
X-ORIGINAL-URL:https://www.benjaminappl.de
X-WR-CALDESC:Veranstaltungen für Benjamin Appl
REFRESH-INTERVAL;VALUE=DURATION:PT1H
X-Robots-Tag:noindex
X-PUBLISHED-TTL:PT1H
BEGIN:VTIMEZONE
TZID:Europe/Berlin
BEGIN:DAYLIGHT
TZOFFSETFROM:+0100
TZOFFSETTO:+0200
TZNAME:CEST
DTSTART:20250330T010000
END:DAYLIGHT
BEGIN:STANDARD
TZOFFSETFROM:+0200
TZOFFSETTO:+0100
TZNAME:CET
DTSTART:20251026T010000
END:STANDARD
END:VTIMEZONE
BEGIN:VEVENT
DTSTART;TZID=Europe/Berlin:20250202T160000
DTEND;TZID=Europe/Berlin:20250202T180000
DTSTAMP:20260423T150304
CREATED:20241028T193013Z
LAST-MODIFIED:20241028T193013Z
UID:2243-1738512000-1738519200@www.benjaminappl.de
SUMMARY:Recital ‘Forbidden Fruit’ in Munich
DESCRIPTION:Recital ‘Forbidden Fruit’ with songs by Mahler\, Debussy\, Schumann\, Schönberg et al. \nJames Baillieu\, piano
URL:https://www.benjaminappl.de/event/recital-forbidden-fruit-in-munich/
LOCATION:Bergson Kunstkraftwerk
END:VEVENT
BEGIN:VEVENT
DTSTART;TZID=Europe/Berlin:20250206T190000
DTEND;TZID=Europe/Berlin:20250206T210000
DTSTAMP:20260423T150304
CREATED:20241028T193428Z
LAST-MODIFIED:20241028T193449Z
UID:2247-1738868400-1738875600@www.benjaminappl.de
SUMMARY:Mozart’s Requiem in Oslo
DESCRIPTION:Mozart – Requiem \nSandrine Piau\, soprano \nSasha Cooke\, mezzo \nLaurence Kilsby\, tenor \nKlaus Mäkelä\, conductor \nOslo Philharmonic Orchestra & Choir \n 
URL:https://www.benjaminappl.de/event/mozarts-requiem-in-oslo/
LOCATION:Oslo Concert Hall
END:VEVENT
BEGIN:VEVENT
DTSTART;TZID=Europe/Berlin:20250207T190000
DTEND;TZID=Europe/Berlin:20250207T210000
DTSTAMP:20260423T150304
CREATED:20241028T193609Z
LAST-MODIFIED:20241028T193609Z
UID:2251-1738954800-1738962000@www.benjaminappl.de
SUMMARY:Mozart’s Requiem in Oslo
DESCRIPTION:Mozart – Requiem \nSandrine Piau\, soprano \nSasha Cooke\, mezzo \nLaurence Kilsby\, tenor \nKlaus Mäkelä\, conductor \nOslo Philharmonic Orchestra & Choir
URL:https://www.benjaminappl.de/event/mozarts-requiem-in-oslo-2/
LOCATION:Oslo Concert Hall
END:VEVENT
BEGIN:VEVENT
DTSTART;TZID=Europe/Berlin:20250213T193000
DTEND;TZID=Europe/Berlin:20250213T213000
DTSTAMP:20260423T150304
CREATED:20241028T193918Z
LAST-MODIFIED:20241028T193918Z
UID:2253-1739475000-1739482200@www.benjaminappl.de
SUMMARY:Schubert’s Schwanengesang in Montreal
DESCRIPTION:Schubert – Schwanengesang D957 \nEric Lu\, piano
URL:https://www.benjaminappl.de/event/schuberts-schwanengesang-in-montreal/
LOCATION:Bourgie Hall Montreal
END:VEVENT
BEGIN:VEVENT
DTSTART;TZID=Europe/Berlin:20250216T140000
DTEND;TZID=Europe/Berlin:20250216T160000
DTSTAMP:20260423T150304
CREATED:20241028T194234Z
LAST-MODIFIED:20241028T194234Z
UID:2257-1739714400-1739721600@www.benjaminappl.de
SUMMARY:Recital in Hall New York
DESCRIPTION:Memorial Concert for Dietrich Fischer Dieskau (100th birthday) \nSongs by Franz Schubert and David Lang \nShai Wosner\, piano \n 
URL:https://www.benjaminappl.de/event/recital-in-hall-new-york/
LOCATION:Town Hall New York
END:VEVENT
BEGIN:VEVENT
DTSTART;TZID=Europe/Berlin:20250223T190000
DTEND;TZID=Europe/Berlin:20250223T203000
DTSTAMP:20260423T150304
CREATED:20241028T195244Z
LAST-MODIFIED:20241028T195244Z
UID:2268-1740337200-1740342600@www.benjaminappl.de
SUMMARY:Schubert’s Winterreise in Washington
DESCRIPTION:Schubert – Winterreise D911 \nBryan Wagorn\, piano
URL:https://www.benjaminappl.de/event/schuberts-winterreise-in-washington-3/
LOCATION:Dumbarton Oaks Music Room Washington
END:VEVENT
BEGIN:VEVENT
DTSTART;TZID=Europe/Berlin:20250224T190000
DTEND;TZID=Europe/Berlin:20250224T203000
DTSTAMP:20260423T150304
CREATED:20241028T195012Z
LAST-MODIFIED:20241028T195012Z
UID:2266-1740423600-1740429000@www.benjaminappl.de
SUMMARY:Schubert’s Winterreise in Washington
DESCRIPTION:Schubert – Winterreise D911 \nBryan Wagorn\, piano
URL:https://www.benjaminappl.de/event/schuberts-winterreise-in-washington-2/
LOCATION:Dumbarton Oaks Music Room Washington
END:VEVENT
END:VCALENDAR