BEGIN:VCALENDAR
VERSION:2.0
PRODID:-//Benjamin Appl - ECPv6.0.9//NONSGML v1.0//EN
CALSCALE:GREGORIAN
METHOD:PUBLISH
X-WR-CALNAME:Benjamin Appl
X-ORIGINAL-URL:https://www.benjaminappl.de
X-WR-CALDESC:Veranstaltungen für Benjamin Appl
REFRESH-INTERVAL;VALUE=DURATION:PT1H
X-Robots-Tag:noindex
X-PUBLISHED-TTL:PT1H
BEGIN:VTIMEZONE
TZID:Europe/Berlin
BEGIN:DAYLIGHT
TZOFFSETFROM:+0100
TZOFFSETTO:+0200
TZNAME:CEST
DTSTART:20240331T010000
END:DAYLIGHT
BEGIN:STANDARD
TZOFFSETFROM:+0200
TZOFFSETTO:+0100
TZNAME:CET
DTSTART:20241027T010000
END:STANDARD
END:VTIMEZONE
BEGIN:VEVENT
DTSTART;TZID=Europe/Berlin:20241211T193000
DTEND;TZID=Europe/Berlin:20241211T220000
DTSTAMP:20260423T190223
CREATED:20241028T190606Z
LAST-MODIFIED:20241028T190606Z
UID:2217-1733945400-1733954400@www.benjaminappl.de
SUMMARY:Handel’s Messiah in Paris
DESCRIPTION:Handel – Messiah HWV 56 \nEmőke Baráth | soprano\nLauranne Oliva | soprano\nTim Mead | countertenor\nRobin Tritschler | tenor\nBenjamin Appl | baritone \nHervé Niquet | direction\nLe Concert Spirituel Orchestra & Choir 
URL:https://www.benjaminappl.de/event/handels-messiah-in-paris/
LOCATION:Théâtre des Champs-Elysées
END:VEVENT
BEGIN:VEVENT
DTSTART;TZID=Europe/Berlin:20241221T190000
DTEND;TZID=Europe/Berlin:20241221T220000
DTSTAMP:20260423T190223
CREATED:20241028T190941Z
LAST-MODIFIED:20241028T190941Z
UID:2219-1734807600-1734818400@www.benjaminappl.de
SUMMARY:Mozart’s Zauberflöte in Hamburg
DESCRIPTION:Mozart’s Die Zauberflöte \nHamburger Staatsoper \nPhilharmonisches Staatsorchester Hamburg \nLeo Hussain\, conductor \nJette Steckel\, stage director \n 
URL:https://www.benjaminappl.de/event/mozarts-zauberfloete-in-hamburg/
LOCATION:Staatsoper Hamburg
END:VEVENT
BEGIN:VEVENT
DTSTART;TZID=Europe/Berlin:20241228T190000
DTEND;TZID=Europe/Berlin:20241228T220000
DTSTAMP:20260423T190223
CREATED:20241028T191049Z
LAST-MODIFIED:20241028T191049Z
UID:2223-1735412400-1735423200@www.benjaminappl.de
SUMMARY:Mozart’s Zauberflöte in Hamburg
DESCRIPTION:Mozart’s Die Zauberflöte \nHamburger Staatsoper \nPhilharmonisches Staatsorchester Hamburg \nLeo Hussain\, conductor \nJette Steckel\, stage director
URL:https://www.benjaminappl.de/event/mozarts-zauberfloete-in-hamburg-2/
LOCATION:Staatsoper Hamburg
END:VEVENT
BEGIN:VEVENT
DTSTART;TZID=Europe/Berlin:20241230T190000
DTEND;TZID=Europe/Berlin:20241230T220000
DTSTAMP:20260423T190223
CREATED:20241028T191146Z
LAST-MODIFIED:20241028T191146Z
UID:2225-1735585200-1735596000@www.benjaminappl.de
SUMMARY:Mozart’s Zauberflöte in Hamburg
DESCRIPTION:Mozart’s Die Zauberflöte \nHamburger Staatsoper \nPhilharmonisches Staatsorchester Hamburg \nLeo Hussain\, conductor \nJette Steckel\, stage director
URL:https://www.benjaminappl.de/event/mozarts-zauberfloete-in-hamburg-3/
LOCATION:Staatsoper Hamburg
END:VEVENT
END:VCALENDAR