BEGIN:VCALENDAR
VERSION:2.0
PRODID:-//Benjamin Appl - ECPv6.0.9//NONSGML v1.0//EN
CALSCALE:GREGORIAN
METHOD:PUBLISH
X-WR-CALNAME:Benjamin Appl
X-ORIGINAL-URL:https://www.benjaminappl.de
X-WR-CALDESC:Veranstaltungen für Benjamin Appl
REFRESH-INTERVAL;VALUE=DURATION:PT1H
X-Robots-Tag:noindex
X-PUBLISHED-TTL:PT1H
BEGIN:VTIMEZONE
TZID:America/Mexico_City
BEGIN:STANDARD
TZOFFSETFROM:-0600
TZOFFSETTO:-0600
TZNAME:CST
DTSTART:20240101T000000
END:STANDARD
TZID:Europe/Berlin
BEGIN:DAYLIGHT
TZOFFSETFROM:+0100
TZOFFSETTO:+0200
TZNAME:CEST
DTSTART:20240331T010000
END:DAYLIGHT
BEGIN:STANDARD
TZOFFSETFROM:+0200
TZOFFSETTO:+0100
TZNAME:CET
DTSTART:20241027T010000
END:STANDARD
END:VTIMEZONE
BEGIN:VEVENT
DTSTART;TZID=America/Mexico_City:20241117T170000
DTEND;TZID=America/Mexico_City:20241117T190000
DTSTAMP:20260423T205943
CREATED:20241028T185033Z
LAST-MODIFIED:20241028T185033Z
UID:2208-1731862800-1731870000@www.benjaminappl.de
SUMMARY:Recital ‘Wanderlust’ in Aguascalientes
DESCRIPTION:Recital ‘Wanderlust’ with songs by Castro\, Brahms\, Ginastera\, Ponce\, Schubert and Schumann \nJorge Viladoms\, piano
URL:https://www.benjaminappl.de/event/recital-wanderlust-in-aguascalientes/
LOCATION:Sala de Concertios Aguascalientes
END:VEVENT
BEGIN:VEVENT
DTSTART;VALUE=DATE:20241119
DTEND;VALUE=DATE:20241120
DTSTAMP:20260423T205943
CREATED:20241028T185212Z
LAST-MODIFIED:20241028T185253Z
UID:2211-1731974400-1732060799@www.benjaminappl.de
SUMMARY:Recital ‘Wanderlust’ in Querétaro
DESCRIPTION:Recital ‘Wanderlust’ with songs by Ponce\, Hahn\, Castro\, Ginastera\, Wolf and Schumann \nJorge Viladoms\, piano
URL:https://www.benjaminappl.de/event/recital-wanderlust-in-queretaro/
END:VEVENT
BEGIN:VEVENT
DTSTART;VALUE=DATE:20241122
DTEND;VALUE=DATE:20241123
DTSTAMP:20260423T205943
CREATED:20241028T185424Z
LAST-MODIFIED:20241028T185424Z
UID:2213-1732233600-1732319999@www.benjaminappl.de
SUMMARY:Recital ‘Wanderlust’ in Chihuahua\, Mexico
DESCRIPTION:Recital ‘Wanderlust’ with songs by Castro\, Hahn\, Ginastera\, Ponce\, Schumann and Schubert \nJorge Viladoms\, piano
URL:https://www.benjaminappl.de/event/recital-wanderlust-in-chihuahua-mexico/
END:VEVENT
BEGIN:VEVENT
DTSTART;VALUE=DATE:20241123
DTEND;VALUE=DATE:20241124
DTSTAMP:20260423T205943
CREATED:20241028T185512Z
LAST-MODIFIED:20241028T185512Z
UID:2215-1732320000-1732406399@www.benjaminappl.de
SUMMARY:Recital ‘Wanderlust’ in Reynosa\, Mexico
DESCRIPTION:Recital ‘Wanderlust’ with songs by Castro\, Hahn\, Ginastera\, Ponce\, Schumann and Schubert \nJorge Viladoms\, piano
URL:https://www.benjaminappl.de/event/recital-wanderlust-in-reynosa-mexico/
END:VEVENT
END:VCALENDAR