BEGIN:VCALENDAR
VERSION:2.0
PRODID:-//Benjamin Appl - ECPv6.0.9//NONSGML v1.0//EN
CALSCALE:GREGORIAN
METHOD:PUBLISH
X-WR-CALNAME:Benjamin Appl
X-ORIGINAL-URL:https://www.benjaminappl.de
X-WR-CALDESC:Veranstaltungen für Benjamin Appl
REFRESH-INTERVAL;VALUE=DURATION:PT1H
X-Robots-Tag:noindex
X-PUBLISHED-TTL:PT1H
BEGIN:VTIMEZONE
TZID:Europe/London
BEGIN:DAYLIGHT
TZOFFSETFROM:+0000
TZOFFSETTO:+0100
TZNAME:BST
DTSTART:20250330T010000
END:DAYLIGHT
BEGIN:STANDARD
TZOFFSETFROM:+0100
TZOFFSETTO:+0000
TZNAME:GMT
DTSTART:20251026T010000
END:STANDARD
END:VTIMEZONE
BEGIN:VEVENT
DTSTART;TZID=Europe/London:20250620T193000
DTEND;TZID=Europe/London:20250620T213000
DTSTAMP:20260421T114000
CREATED:20250323T135332Z
LAST-MODIFIED:20250323T135332Z
UID:2445-1750447800-1750455000@www.benjaminappl.de
SUMMARY:Recital “Lines of Life“ at Wigmore Hall London
DESCRIPTION:Songs by György Kurtág\, Franz Schubert\, Franz Liszt and Hanns Eisler \nSimon Lepper\, piano
URL:https://www.benjaminappl.de/event/recital-lines-of-life-at-wigmore-hall-london/
LOCATION:Wigmore Hall London\, 36 Wigmore Street\, London\, W1U 2BP\, Großbritannien (Vereinigtes Königreich)
END:VEVENT
END:VCALENDAR