BEGIN:VCALENDAR
VERSION:2.0
PRODID:-//Benjamin Appl - ECPv6.0.9//NONSGML v1.0//EN
CALSCALE:GREGORIAN
METHOD:PUBLISH
X-WR-CALNAME:Benjamin Appl
X-ORIGINAL-URL:https://www.benjaminappl.de
X-WR-CALDESC:Veranstaltungen für Benjamin Appl
REFRESH-INTERVAL;VALUE=DURATION:PT1H
X-Robots-Tag:noindex
X-PUBLISHED-TTL:PT1H
BEGIN:VTIMEZONE
TZID:Europe/Berlin
BEGIN:DAYLIGHT
TZOFFSETFROM:+0100
TZOFFSETTO:+0200
TZNAME:CEST
DTSTART:20250330T010000
END:DAYLIGHT
BEGIN:STANDARD
TZOFFSETFROM:+0200
TZOFFSETTO:+0100
TZNAME:CET
DTSTART:20251026T010000
END:STANDARD
END:VTIMEZONE
BEGIN:VEVENT
DTSTART;TZID=Europe/Berlin:20250528T193000
DTEND;TZID=Europe/Berlin:20250528T213000
DTSTAMP:20260421T114007
CREATED:20250323T132721Z
LAST-MODIFIED:20250323T132721Z
UID:2427-1748460600-1748467800@www.benjaminappl.de
SUMMARY:100th Birthday of Dietrich Fischer-Dieskau in Heidelberg
DESCRIPTION:Celebrating the 100th Birthday of the great German baritone Dietrich Fischer-Dieskau \nJames Baillieu\, piano
URL:https://www.benjaminappl.de/event/100th-birthday-of-dietrich-fischer-dieskau-in-heidelberg/
LOCATION:Aula der alten Universität Heidelberg
END:VEVENT
END:VCALENDAR