BEGIN:VCALENDAR
VERSION:2.0
PRODID:-//Benjamin Appl - ECPv6.0.9//NONSGML v1.0//EN
CALSCALE:GREGORIAN
METHOD:PUBLISH
X-WR-CALNAME:Benjamin Appl
X-ORIGINAL-URL:https://www.benjaminappl.de
X-WR-CALDESC:Veranstaltungen für Benjamin Appl
REFRESH-INTERVAL;VALUE=DURATION:PT1H
X-Robots-Tag:noindex
X-PUBLISHED-TTL:PT1H
BEGIN:VTIMEZONE
TZID:Europe/Berlin
BEGIN:DAYLIGHT
TZOFFSETFROM:+0100
TZOFFSETTO:+0200
TZNAME:CEST
DTSTART:20250330T010000
END:DAYLIGHT
BEGIN:STANDARD
TZOFFSETFROM:+0200
TZOFFSETTO:+0100
TZNAME:CET
DTSTART:20251026T010000
END:STANDARD
END:VTIMEZONE
BEGIN:VEVENT
DTSTART;TZID=Europe/Berlin:20250401T201500
DTEND;TZID=Europe/Berlin:20250401T221500
DTSTAMP:20260423T130412
CREATED:20241028T200500Z
LAST-MODIFIED:20241028T200500Z
UID:2280-1743538500-1743545700@www.benjaminappl.de
SUMMARY:Recital ‘Forbidden Fruit’ in Amsterdam
DESCRIPTION:Recital ‘Forbidden Fruit’ with songs by Mahler\, Heggie\, Debussy\, Schumann et al. \nJames Baillieu\, piano
URL:https://www.benjaminappl.de/event/recital-forbidden-fruit-in-amsterdam/
LOCATION:Concertgebouw Amsterdam\, plein 10\, Amsterdam\, 1071\, Niederlande
END:VEVENT
END:VCALENDAR