BEGIN:VCALENDAR
VERSION:2.0
PRODID:-//Benjamin Appl - ECPv6.0.9//NONSGML v1.0//EN
CALSCALE:GREGORIAN
METHOD:PUBLISH
X-ORIGINAL-URL:https://www.benjaminappl.de
X-WR-CALDESC:Veranstaltungen für Benjamin Appl
REFRESH-INTERVAL;VALUE=DURATION:PT1H
X-Robots-Tag:noindex
X-PUBLISHED-TTL:PT1H
BEGIN:VTIMEZONE
TZID:Europe/Berlin
BEGIN:DAYLIGHT
TZOFFSETFROM:+0100
TZOFFSETTO:+0200
TZNAME:CEST
DTSTART:20250330T010000
END:DAYLIGHT
BEGIN:STANDARD
TZOFFSETFROM:+0200
TZOFFSETTO:+0100
TZNAME:CET
DTSTART:20251026T010000
END:STANDARD
END:VTIMEZONE
BEGIN:VEVENT
DTSTART;TZID=Europe/Berlin:20250330T190000
DTEND;TZID=Europe/Berlin:20250330T210000
DTSTAMP:20260423T150422
CREATED:20250323T124553Z
LAST-MODIFIED:20250323T125450Z
UID:2372-1743361200-1743368400@www.benjaminappl.de
SUMMARY:Theodor W. Adorno - Heute. Philosophie. Musik. Politik in Hamburg
DESCRIPTION:Ein Adorno-Abend with \nJens Harzer\, Benjamin Appl\, Florian Weber\, Alberta von Poelnitz\, a string quartet from ensemble resonanz.  \nConcept by Benjamin Sprick and Helmut Butzmann
URL:https://www.benjaminappl.de/event/theodor-w-adorno-heute-philosophie-musik-politik/
LOCATION:Uebel & Gefährlich Hamburg
END:VEVENT
END:VCALENDAR