BEGIN:VCALENDAR
VERSION:2.0
PRODID:-//Benjamin Appl - ECPv6.0.9//NONSGML v1.0//EN
CALSCALE:GREGORIAN
METHOD:PUBLISH
X-WR-CALNAME:Benjamin Appl
X-ORIGINAL-URL:https://www.benjaminappl.de
X-WR-CALDESC:Veranstaltungen für Benjamin Appl
REFRESH-INTERVAL;VALUE=DURATION:PT1H
X-Robots-Tag:noindex
X-PUBLISHED-TTL:PT1H
BEGIN:VTIMEZONE
TZID:Europe/Berlin
BEGIN:DAYLIGHT
TZOFFSETFROM:+0100
TZOFFSETTO:+0200
TZNAME:CEST
DTSTART:20250330T010000
END:DAYLIGHT
BEGIN:STANDARD
TZOFFSETFROM:+0200
TZOFFSETTO:+0100
TZNAME:CET
DTSTART:20251026T010000
END:STANDARD
END:VTIMEZONE
BEGIN:VEVENT
DTSTART;TZID=Europe/Berlin:20250323T080000
DTEND;TZID=Europe/Berlin:20250323T170000
DTSTAMP:20260423T150143
CREATED:20250323T141804Z
LAST-MODIFIED:20250323T141804Z
UID:2471-1742716800-1742749200@www.benjaminappl.de
SUMMARY:Bach - Mass in b minor in Verbier
DESCRIPTION:Johann Sebastian Bach – Mass in b minor BWV 232 \nVerbier Festival Chamber Orchestra\nLeonardo García-\,Alarcón\, conductor\nYing Fang\, soprano\nMariana Flores\, soprano\nAlice Coote\, mezzo soprano\nBernard Richter\, tenor\nBenjamin Appl\, baritone\nChoeur de Chambre de Namur
URL:https://www.benjaminappl.de/event/bach-mass-in-b-minor-in-verbier/
LOCATION:Salle des Combins
END:VEVENT
END:VCALENDAR