BEGIN:VCALENDAR
VERSION:2.0
PRODID:-//Benjamin Appl - ECPv6.0.9//NONSGML v1.0//EN
CALSCALE:GREGORIAN
METHOD:PUBLISH
X-ORIGINAL-URL:https://www.benjaminappl.de
X-WR-CALDESC:Veranstaltungen für Benjamin Appl
REFRESH-INTERVAL;VALUE=DURATION:PT1H
X-Robots-Tag:noindex
X-PUBLISHED-TTL:PT1H
BEGIN:VTIMEZONE
TZID:Europe/Berlin
BEGIN:DAYLIGHT
TZOFFSETFROM:+0100
TZOFFSETTO:+0200
TZNAME:CEST
DTSTART:20250330T010000
END:DAYLIGHT
BEGIN:STANDARD
TZOFFSETFROM:+0200
TZOFFSETTO:+0100
TZNAME:CET
DTSTART:20251026T010000
END:STANDARD
END:VTIMEZONE
BEGIN:VEVENT
DTSTART;TZID=Europe/Berlin:20250307T193000
DTEND;TZID=Europe/Berlin:20250307T213000
DTSTAMP:20260423T150400
CREATED:20241028T200156Z
LAST-MODIFIED:20241028T200156Z
UID:2276-1741375800-1741383000@www.benjaminappl.de
SUMMARY:Recital ‘To Dieter’ in Shrewsbury
DESCRIPTION:Recital ‘To Dieter: the past and the future’ // Homage a Fischer Dieskau at 100 \nJames Baillieu\, piano
URL:https://www.benjaminappl.de/event/recital-to-dieter-in-shrewsbury/
LOCATION:St Chad’s Church Shrewsbury
END:VEVENT
END:VCALENDAR