BEGIN:VCALENDAR
VERSION:2.0
PRODID:-//Benjamin Appl - ECPv6.0.9//NONSGML v1.0//EN
CALSCALE:GREGORIAN
METHOD:PUBLISH
X-WR-CALNAME:Benjamin Appl
X-ORIGINAL-URL:https://www.benjaminappl.de
X-WR-CALDESC:Veranstaltungen für Benjamin Appl
REFRESH-INTERVAL;VALUE=DURATION:PT1H
X-Robots-Tag:noindex
X-PUBLISHED-TTL:PT1H
BEGIN:VTIMEZONE
TZID:Europe/Berlin
BEGIN:DAYLIGHT
TZOFFSETFROM:+0100
TZOFFSETTO:+0200
TZNAME:CEST
DTSTART:20250330T010000
END:DAYLIGHT
BEGIN:STANDARD
TZOFFSETFROM:+0200
TZOFFSETTO:+0100
TZNAME:CET
DTSTART:20251026T010000
END:STANDARD
END:VTIMEZONE
BEGIN:VEVENT
DTSTART;TZID=Europe/Berlin:20250305T193000
DTEND;TZID=Europe/Berlin:20250305T213000
DTSTAMP:20260423T150149
CREATED:20241028T195852Z
LAST-MODIFIED:20241028T195852Z
UID:2273-1741203000-1741210200@www.benjaminappl.de
SUMMARY:Widmann’s Schumannliebe in Liverpool
DESCRIPTION:Jörg Widmann – Schumannliebe \nEnsemble 10:10 \nGeoffrey Paterson\, conductor
URL:https://www.benjaminappl.de/event/widmanns-schumannliebe-in-liverpool/
LOCATION:The Tung Auditorium Liverpool
END:VEVENT
END:VCALENDAR