BEGIN:VCALENDAR
VERSION:2.0
PRODID:-//Benjamin Appl - ECPv6.0.9//NONSGML v1.0//EN
CALSCALE:GREGORIAN
METHOD:PUBLISH
X-ORIGINAL-URL:https://www.benjaminappl.de
X-WR-CALDESC:Veranstaltungen für Benjamin Appl
REFRESH-INTERVAL;VALUE=DURATION:PT1H
X-Robots-Tag:noindex
X-PUBLISHED-TTL:PT1H
BEGIN:VTIMEZONE
TZID:Europe/Berlin
BEGIN:DAYLIGHT
TZOFFSETFROM:+0100
TZOFFSETTO:+0200
TZNAME:CEST
DTSTART:20250330T010000
END:DAYLIGHT
BEGIN:STANDARD
TZOFFSETFROM:+0200
TZOFFSETTO:+0100
TZNAME:CET
DTSTART:20251026T010000
END:STANDARD
END:VTIMEZONE
BEGIN:VEVENT
DTSTART;TZID=Europe/Berlin:20250131T190000
DTEND;TZID=Europe/Berlin:20250131T210000
DTSTAMP:20260423T165011
CREATED:20241028T192736Z
LAST-MODIFIED:20241028T192736Z
UID:2239-1738350000-1738357200@www.benjaminappl.de
SUMMARY:Recital ‘Forbidden Fruit’ in Passau
DESCRIPTION:Recital ‘Forbidden Fruit’ with songs by Mahler\, Debussy\, Strauss\, Schumann etc. \nJames Baillieu\, piano
URL:https://www.benjaminappl.de/event/recital-forbidden-fruit-in-passau/
LOCATION:Spektrum Kirche Passau
END:VEVENT
END:VCALENDAR