BEGIN:VCALENDAR
VERSION:2.0
PRODID:-//Benjamin Appl - ECPv6.0.9//NONSGML v1.0//EN
CALSCALE:GREGORIAN
METHOD:PUBLISH
X-ORIGINAL-URL:https://www.benjaminappl.de
X-WR-CALDESC:Veranstaltungen für Benjamin Appl
REFRESH-INTERVAL;VALUE=DURATION:PT1H
X-Robots-Tag:noindex
X-PUBLISHED-TTL:PT1H
BEGIN:VTIMEZONE
TZID:Europe/Berlin
BEGIN:DAYLIGHT
TZOFFSETFROM:+0100
TZOFFSETTO:+0200
TZNAME:CEST
DTSTART:20240331T010000
END:DAYLIGHT
BEGIN:STANDARD
TZOFFSETFROM:+0200
TZOFFSETTO:+0100
TZNAME:CET
DTSTART:20241027T010000
END:STANDARD
END:VTIMEZONE
BEGIN:VEVENT
DTSTART;VALUE=DATE:20241122
DTEND;VALUE=DATE:20241123
DTSTAMP:20260423T225725
CREATED:20241028T185424Z
LAST-MODIFIED:20241028T185424Z
UID:2213-1732233600-1732319999@www.benjaminappl.de
SUMMARY:Recital ‘Wanderlust’ in Chihuahua\, Mexico
DESCRIPTION:Recital ‘Wanderlust’ with songs by Castro\, Hahn\, Ginastera\, Ponce\, Schumann and Schubert \nJorge Viladoms\, piano
URL:https://www.benjaminappl.de/event/recital-wanderlust-in-chihuahua-mexico/
END:VEVENT
END:VCALENDAR