BEGIN:VCALENDAR
VERSION:2.0
PRODID:-//Benjamin Appl - ECPv6.0.9//NONSGML v1.0//EN
CALSCALE:GREGORIAN
METHOD:PUBLISH
X-ORIGINAL-URL:https://www.benjaminappl.de
X-WR-CALDESC:Veranstaltungen für Benjamin Appl
REFRESH-INTERVAL;VALUE=DURATION:PT1H
X-Robots-Tag:noindex
X-PUBLISHED-TTL:PT1H
BEGIN:VTIMEZONE
TZID:Europe/Berlin
BEGIN:DAYLIGHT
TZOFFSETFROM:+0100
TZOFFSETTO:+0200
TZNAME:CEST
DTSTART:20240331T010000
END:DAYLIGHT
BEGIN:STANDARD
TZOFFSETFROM:+0200
TZOFFSETTO:+0100
TZNAME:CET
DTSTART:20241027T010000
END:STANDARD
END:VTIMEZONE
BEGIN:VEVENT
DTSTART;TZID=Europe/Berlin:20241028T080000
DTEND;TZID=Europe/Berlin:20241028T170000
DTSTAMP:20260423T225727
CREATED:20241028T194840Z
LAST-MODIFIED:20241028T194919Z
UID:2261-1730102400-1730134800@www.benjaminappl.de
SUMMARY:Schubert’s Winterreise in Washington
DESCRIPTION:Schubert – Winterreise D911 \nBryan Wagorn\, piano
URL:https://www.benjaminappl.de/event/schuberts-winterreise-in-washington/
LOCATION:Dumbarton Oaks Music Room Washington
END:VEVENT
BEGIN:VEVENT
DTSTART;TZID=Europe/Berlin:20241028T193000
DTEND;TZID=Europe/Berlin:20241028T223000
DTSTAMP:20260423T225727
CREATED:20241028T191632Z
LAST-MODIFIED:20241028T191632Z
UID:2231-1730143800-1730154600@www.benjaminappl.de
SUMMARY:Handel’s Messiah in Liverpool (CONDUCTING DEBUT)
DESCRIPTION:Handel’s Messiah HWV 56 \nBenjamin Appl conductor\nAnna Devin soprano\nSilke Gäng mezzo-soprano\nJames Way tenor\nAlex Rosen bass\nRoyal Liverpool Philharmonic Orchestra & Choir
URL:https://www.benjaminappl.de/event/handels-messiah-in-liverpool-conducting-debut/
LOCATION:Royal Liverpool Philharmonic Hall\, Hope Street\, Liverpool\, L1 9BP\, Großbritannien (Vereinigtes Königreich)
END:VEVENT
END:VCALENDAR