BEGIN:VCALENDAR
VERSION:2.0
PRODID:-//Benjamin Appl - ECPv6.0.9//NONSGML v1.0//EN
CALSCALE:GREGORIAN
METHOD:PUBLISH
X-WR-CALNAME:Benjamin Appl
X-ORIGINAL-URL:https://www.benjaminappl.de
X-WR-CALDESC:Veranstaltungen für Benjamin Appl
REFRESH-INTERVAL;VALUE=DURATION:PT1H
X-Robots-Tag:noindex
X-PUBLISHED-TTL:PT1H
BEGIN:VTIMEZONE
TZID:Europe/Berlin
BEGIN:DAYLIGHT
TZOFFSETFROM:+0100
TZOFFSETTO:+0200
TZNAME:CEST
DTSTART:20240331T010000
END:DAYLIGHT
BEGIN:STANDARD
TZOFFSETFROM:+0200
TZOFFSETTO:+0100
TZNAME:CET
DTSTART:20241027T010000
END:STANDARD
END:VTIMEZONE
BEGIN:VEVENT
DTSTART;TZID=Europe/Berlin:20240905T193000
DTEND;TZID=Europe/Berlin:20240905T203000
DTSTAMP:20260424T020027
CREATED:20240613T111206Z
LAST-MODIFIED:20240613T111206Z
UID:2203-1725564600-1725568200@www.benjaminappl.de
SUMMARY:Winterreise in Seoul
DESCRIPTION:F. Schubert – Winterreise D911 \nSimon Lepper\, piano
URL:https://www.benjaminappl.de/event/winterreise-in-seoul/
LOCATION:Lotte Hall Seoul
END:VEVENT
END:VCALENDAR