BEGIN:VCALENDAR
VERSION:2.0
PRODID:-//Benjamin Appl - ECPv6.0.9//NONSGML v1.0//EN
CALSCALE:GREGORIAN
METHOD:PUBLISH
X-ORIGINAL-URL:https://www.benjaminappl.de
X-WR-CALDESC:Veranstaltungen für Benjamin Appl
REFRESH-INTERVAL;VALUE=DURATION:PT1H
X-Robots-Tag:noindex
X-PUBLISHED-TTL:PT1H
BEGIN:VTIMEZONE
TZID:Europe/Berlin
BEGIN:DAYLIGHT
TZOFFSETFROM:+0100
TZOFFSETTO:+0200
TZNAME:CEST
DTSTART:20240331T010000
END:DAYLIGHT
BEGIN:STANDARD
TZOFFSETFROM:+0200
TZOFFSETTO:+0100
TZNAME:CET
DTSTART:20241027T010000
END:STANDARD
END:VTIMEZONE
BEGIN:VEVENT
DTSTART;TZID=Europe/Berlin:20240830T210000
DTEND;TZID=Europe/Berlin:20240830T230000
DTSTAMP:20260424T020151
CREATED:20240613T111029Z
LAST-MODIFIED:20240613T111029Z
UID:2199-1725051600-1725058800@www.benjaminappl.de
SUMMARY:L‘enfance du Christ in La Côte-Saint-André
DESCRIPTION:Berlioz – L‘enfance du Christ \nChœur et orchestre du NFM de Wrocław\nPaul McCreesh\, conductor\nAnna Stephany\, mezzo-soprano\, Marie\nBenjamin Appl\, baryton\, Joseph\nAshley Riches\, baryton\, Un père de famille\nNeal Davies\, baryton-basse\, Hérode\nLaurence Kilsby\, ténor
URL:https://www.benjaminappl.de/event/lenfance-du-christ-in-la-cote-saint-andre/
LOCATION:Château de La Côte-Saint-André
END:VEVENT
END:VCALENDAR