BEGIN:VCALENDAR
VERSION:2.0
PRODID:-//Benjamin Appl - ECPv6.0.9//NONSGML v1.0//EN
CALSCALE:GREGORIAN
METHOD:PUBLISH
X-WR-CALNAME:Benjamin Appl
X-ORIGINAL-URL:https://www.benjaminappl.de
X-WR-CALDESC:Veranstaltungen für Benjamin Appl
REFRESH-INTERVAL;VALUE=DURATION:PT1H
X-Robots-Tag:noindex
X-PUBLISHED-TTL:PT1H
BEGIN:VTIMEZONE
TZID:Europe/Berlin
BEGIN:DAYLIGHT
TZOFFSETFROM:+0100
TZOFFSETTO:+0200
TZNAME:CEST
DTSTART:20240331T010000
END:DAYLIGHT
BEGIN:STANDARD
TZOFFSETFROM:+0200
TZOFFSETTO:+0100
TZNAME:CET
DTSTART:20241027T010000
END:STANDARD
END:VTIMEZONE
BEGIN:VEVENT
DTSTART;TZID=Europe/Berlin:20240817T180000
DTEND;TZID=Europe/Berlin:20240817T200000
DTSTAMP:20260424T033749
CREATED:20240613T110615Z
LAST-MODIFIED:20240613T110615Z
UID:2196-1723917600-1723924800@www.benjaminappl.de
SUMMARY:Recital with String Quartet in Prerow (MV)
DESCRIPTION:Recital with Beethoven‘s An die ferne Geliebte & Schumann‘s Dichterliebe \nArmida Quartett
URL:https://www.benjaminappl.de/event/recital-with-string-quartet-in-prerow-mv/
LOCATION:Seemannskirche Prerow
END:VEVENT
END:VCALENDAR