BEGIN:VCALENDAR
VERSION:2.0
PRODID:-//Benjamin Appl - ECPv6.0.9//NONSGML v1.0//EN
CALSCALE:GREGORIAN
METHOD:PUBLISH
X-WR-CALNAME:Benjamin Appl
X-ORIGINAL-URL:https://www.benjaminappl.de
X-WR-CALDESC:Veranstaltungen für Benjamin Appl
REFRESH-INTERVAL;VALUE=DURATION:PT1H
X-Robots-Tag:noindex
X-PUBLISHED-TTL:PT1H
BEGIN:VTIMEZONE
TZID:Europe/Berlin
BEGIN:DAYLIGHT
TZOFFSETFROM:+0100
TZOFFSETTO:+0200
TZNAME:CEST
DTSTART:20240331T010000
END:DAYLIGHT
BEGIN:STANDARD
TZOFFSETFROM:+0200
TZOFFSETTO:+0100
TZNAME:CET
DTSTART:20241027T010000
END:STANDARD
END:VTIMEZONE
BEGIN:VEVENT
DTSTART;TZID=Europe/Berlin:20240730T190000
DTEND;TZID=Europe/Berlin:20240730T210000
DTSTAMP:20260424T033748
CREATED:20240613T110232Z
LAST-MODIFIED:20240613T110232Z
UID:2190-1722366000-1722373200@www.benjaminappl.de
SUMMARY:Wanderlust in Tokyo
DESCRIPTION:Recital programme ‘Wanderlust‘ \nJorge Viladoms\, piano
URL:https://www.benjaminappl.de/event/wanderlust-in-tokyo/
LOCATION:Hamarikyu Asahi Hall
END:VEVENT
END:VCALENDAR