BEGIN:VCALENDAR
VERSION:2.0
PRODID:-//Benjamin Appl - ECPv6.0.9//NONSGML v1.0//EN
CALSCALE:GREGORIAN
METHOD:PUBLISH
X-ORIGINAL-URL:https://www.benjaminappl.de
X-WR-CALDESC:Veranstaltungen für Benjamin Appl
REFRESH-INTERVAL;VALUE=DURATION:PT1H
X-Robots-Tag:noindex
X-PUBLISHED-TTL:PT1H
BEGIN:VTIMEZONE
TZID:Asia/Shanghai
BEGIN:STANDARD
TZOFFSETFROM:+0800
TZOFFSETTO:+0800
TZNAME:CST
DTSTART:20240101T000000
END:STANDARD
END:VTIMEZONE
BEGIN:VEVENT
DTSTART;TZID=Asia/Shanghai:20240705T194500
DTEND;TZID=Asia/Shanghai:20240705T214500
DTSTAMP:20260424T045950
CREATED:20240613T105254Z
LAST-MODIFIED:20240613T105254Z
UID:2172-1720208700-1720215900@www.benjaminappl.de
SUMMARY:‘A trip to Venice‘ in Shanghai
DESCRIPTION:Recital with accordion with songs by Schubert\, Schumann\, Tchaikovsky\, Vivaldi\, Caldara etc. \nKsenija Sidorova\, accordion
URL:https://www.benjaminappl.de/event/a-trip-to-venice-in-shanghai/
LOCATION:Shanghai Symphony Hall
END:VEVENT
END:VCALENDAR