BEGIN:VCALENDAR
VERSION:2.0
PRODID:-//Benjamin Appl - ECPv6.0.9//NONSGML v1.0//EN
CALSCALE:GREGORIAN
METHOD:PUBLISH
X-ORIGINAL-URL:https://www.benjaminappl.de
X-WR-CALDESC:Veranstaltungen für Benjamin Appl
REFRESH-INTERVAL;VALUE=DURATION:PT1H
X-Robots-Tag:noindex
X-PUBLISHED-TTL:PT1H
BEGIN:VTIMEZONE
TZID:Europe/Berlin
BEGIN:DAYLIGHT
TZOFFSETFROM:+0100
TZOFFSETTO:+0200
TZNAME:CEST
DTSTART:20240331T010000
END:DAYLIGHT
BEGIN:STANDARD
TZOFFSETFROM:+0200
TZOFFSETTO:+0100
TZNAME:CET
DTSTART:20241027T010000
END:STANDARD
END:VTIMEZONE
BEGIN:VEVENT
DTSTART;TZID=Europe/Berlin:20240701T200000
DTEND;TZID=Europe/Berlin:20240701T223000
DTSTAMP:20260424T045951
CREATED:20240202T084535Z
LAST-MODIFIED:20240202T084535Z
UID:2160-1719864000-1719873000@www.benjaminappl.de
SUMMARY:Faurè‘s Requiem in Evian
DESCRIPTION:Fauré – Requiem op. 48 \nSiobhan Stagg (soprano) \nEnsemble Vocal de Lausanne \nOrchestre de Chambre de Lausanne \nRenaud Capucon (conductor)
URL:https://www.benjaminappl.de/event/faures-requiem-in-evian/
LOCATION:La Grange au Lac Evian
END:VEVENT
END:VCALENDAR