BEGIN:VCALENDAR
VERSION:2.0
PRODID:-//Benjamin Appl - ECPv6.0.9//NONSGML v1.0//EN
CALSCALE:GREGORIAN
METHOD:PUBLISH
X-ORIGINAL-URL:https://www.benjaminappl.de
X-WR-CALDESC:Veranstaltungen für Benjamin Appl
REFRESH-INTERVAL;VALUE=DURATION:PT1H
X-Robots-Tag:noindex
X-PUBLISHED-TTL:PT1H
BEGIN:VTIMEZONE
TZID:Europe/Berlin
BEGIN:DAYLIGHT
TZOFFSETFROM:+0100
TZOFFSETTO:+0200
TZNAME:CEST
DTSTART:20240331T010000
END:DAYLIGHT
BEGIN:STANDARD
TZOFFSETFROM:+0200
TZOFFSETTO:+0100
TZNAME:CET
DTSTART:20241027T010000
END:STANDARD
END:VTIMEZONE
BEGIN:VEVENT
DTSTART;TZID=Europe/Berlin:20240607T193000
DTEND;TZID=Europe/Berlin:20240607T223000
DTSTAMP:20260425T175413
CREATED:20240202T083130Z
LAST-MODIFIED:20240202T083130Z
UID:2148-1717788600-1717799400@www.benjaminappl.de
SUMMARY:Mozart’s Così fan tutte in Würzburg
DESCRIPTION:Mozart – Così fan tutte KV 588 \nGalina Averina (Fiordiligi)\nEmilie Renard (Dorabella)\nJeremy Ovenden (Ferrando)\nBenjamin Appl (Guglielmo)\nJudith van Wanroij (Despina)\nGeorg Nigl (Don Alfonso)\nLes Talens Lyriques\nChristophe Rousset (conductor)
URL:https://www.benjaminappl.de/event/mozarts-cosi-fan-tutte-in-wuerzburg/
LOCATION:Residenz Würzburg
END:VEVENT
END:VCALENDAR